BEGIN:VCALENDAR
PRODID:-//kirchenweb.ch gmbh//veranstaltungsausgabe v2.0//DE
VERSION:2.0
METHOD:PUBLISH
BEGIN:VEVENT
DTSTART:20260614T150000Z
DTEND:20260614T160000Z
LOCATION:Evangelische Kirche Amriswil\, Friedhofweg\, 8580 Amriswil
TRANSP:OPAQUE
SEQUENCE:0
UID:25423-veranstaltung@evang-amriswil.ch
DTSTAMP:20251209T195011Z
DESCRIPTION:Kontakt: Pfr. Lukas Butscher\n\nWeitere Infos:
  https://www.evang-amriswil.ch/veranstaltung/25423
SUMMARY:Ökumenischer Gottesdienst mit Grillfest in Amriswil
PRIORITY:5
X-MICROSOFT-CDO-IMPORTANCE:1
CLASS:PUBLIC
END:VEVENT
END:VCALENDAR
