BEGIN:VCALENDAR
PRODID:-//kirchenweb.ch gmbh//veranstaltungsausgabe v2.0//DE
VERSION:2.0
METHOD:PUBLISH
BEGIN:VEVENT
DTSTART:20260513T080000Z
DTEND:20260513T100000Z
LOCATION:Ehemaliges Evang. Kirchgemeindehaus\, Romanshornerstr. 6\, 8580
  Amriswil
TRANSP:OPAQUE
SEQUENCE:0
UID:33215-veranstaltung@evang-amriswil.ch
DTSTAMP:20251009T143648Z
DESCRIPTION:Kontakt: Pfr. Michael Ziegler\n\nWeitere Infos:
  https://www.evang-amriswil.ch/veranstaltung/33215
SUMMARY:Infoanlass Seniorenferienwoche
PRIORITY:5
X-MICROSOFT-CDO-IMPORTANCE:1
CLASS:PUBLIC
END:VEVENT
END:VCALENDAR
