BEGIN:VCALENDAR
PRODID:-//kirchenweb.ch gmbh//veranstaltungsausgabe v2.0//DE
VERSION:2.0
METHOD:PUBLISH
BEGIN:VEVENT
DTSTART:20260510T150000Z
DTEND:20260510T163000Z
LOCATION:Evangelische Kirche Amriswil\, Friedhofweg\, 8580 Amriswil
TRANSP:OPAQUE
SEQUENCE:0
UID:33421-veranstaltung@evang-amriswil.ch
DTSTAMP:20251127T144542Z
DESCRIPTION:Ein Konzert mit den schönsten und beliebtesten Werken
 \nMozarts aus verschiedenen Epochen seines Lebens.\nEröffnet wird das
  Programm mit dem heiter-beschwingten\nExsultate Jubilate vom jungen
  Mozart\, gefolgt vom\nergreifend-schönen Klarinettenkonzert aus Mozarts
 \nletztem Lebensjahr. Den Abschluss des Konzerts bildet\ndie berühmte
  Krönungsmesse.\n\nWolfgang Amadeus Mozart (1756 – 1791)\nExsultate
  Jubilate KV 165\nKlarinettenkonzert KV 622\nLaudate Dominum KV 339
 \nKrönungsmesse KV 317\n\nAusführende: Glarisegger Chor | Fabio Di
  Càsola\, Klarinette | Yeree\nSuh\, Sopran | Céline Akçağ\, Alt | Nino
  Gmünder\, Tenor | Ruben\nDrole\, Bass | Swiss Festival Orchestra |
  Leitung: Heinz Bähler\n\nEintritt Fr. 30.– bis 60.–\n(nummerierte
  Plätze)\n\nTickets: Eventfrog oder Abendkasse ab 16.00 Uhr\n\nKontakt:
  Dagmar Grigarová\n\nWeitere Infos:
  https://www.evang-amriswil.ch/veranstaltung/33421
SUMMARY:Amriswiler Konzerte - MOZART ZUM MUTTERTAG
PRIORITY:5
X-MICROSOFT-CDO-IMPORTANCE:1
CLASS:PUBLIC
END:VEVENT
END:VCALENDAR
