BEGIN:VCALENDAR
PRODID:-//kirchenweb.ch gmbh//veranstaltungsausgabe v2.0//DE
VERSION:2.0
METHOD:PUBLISH
BEGIN:VEVENT
DTSTART:20260426T170000Z
DTEND:20260426T180000Z
LOCATION:Ehemaliges Evang. Kirchgemeindehaus\, Romanshornerstr. 6\, 8580
  Amriswil
TRANSP:OPAQUE
SEQUENCE:0
UID:33428-veranstaltung@evang-amriswil.ch
DTSTAMP:20251001T072608Z
DESCRIPTION:Karin Engeler\, Tel. 071 411 58 16\nVreni Wälchli\, Tel. 071
  411 45 85\n\nKontakt: Sekretariat: Liliane Germann\n\nWeitere Infos:
  https://www.evang-amriswil.ch/veranstaltung/33428
SUMMARY:Fröhliches Tanzen
PRIORITY:5
X-MICROSOFT-CDO-IMPORTANCE:1
CLASS:PUBLIC
END:VEVENT
END:VCALENDAR
