BEGIN:VCALENDAR
PRODID:-//kirchenweb.ch gmbh//veranstaltungsausgabe v2.0//DE
VERSION:2.0
METHOD:PUBLISH
BEGIN:VEVENT
DTSTART:20260222T090000Z
DTEND:20260222T100000Z
LOCATION:Evangelische Kirche Amriswil\, Friedhofweg\, 8580 Amriswil
TRANSP:OPAQUE
SEQUENCE:0
UID:33517-veranstaltung@evang-amriswil.ch
DTSTAMP:20250819T192220Z
DESCRIPTION:Mit Jodelclub Kreuzlingen. \n\nFür kleine Kinder steht bei
  allen Gottesdiensten ein Kinderhüeti-Raum direkt in der Kirche zur
  Verfügung. Bei Familiengottesdiensten und Taufen ist dieser betreut.\n
 \nNach jedem Gottesdienst gibt es einen Kirchenkaffee in der Kirche\,
  herzliche Einladung!\n\nKontakt: Pfr. Lukas Butscher\n\nWeitere Infos:
  https://www.evang-amriswil.ch/veranstaltung/33517
SUMMARY:Gottesdienst in Amriswil
PRIORITY:5
X-MICROSOFT-CDO-IMPORTANCE:1
CLASS:PUBLIC
END:VEVENT
END:VCALENDAR
