BEGIN:VCALENDAR
PRODID:-//kirchenweb.ch gmbh//veranstaltungsausgabe v2.0//DE
VERSION:2.0
METHOD:PUBLISH
BEGIN:VEVENT
DTSTART:20260329T080000Z
DTEND:20260329T090000Z
LOCATION:Evangelische Kirche Amriswil\, Friedhofweg\, 8580 Amriswil
TRANSP:OPAQUE
SEQUENCE:0
UID:33530-veranstaltung@evang-amriswil.ch
DTSTAMP:20260401T142336Z
DESCRIPTION:Mitwirken von Input-Team. \n\nFür kleine Kinder steht bei
  allen Gottesdiensten ein Kinderhüeti-Raum direkt in der Kirche zur
  Verfügung. Bei Familiengottesdiensten und Taufen ist dieser betreut.\n
 \nNach jedem Gottesdienst gibt es einen Kirchenkaffee in der Kirche\,
  herzliche Einladung!\n\nKontakt: Pfr. Markus Keller\n\nWeitere Infos:
  https://www.evang-amriswil.ch/veranstaltung/33530
SUMMARY:Gottesdienst in Amriswil am Palmsonntag\, mit Input und Input-Team
PRIORITY:5
X-MICROSOFT-CDO-IMPORTANCE:1
CLASS:PUBLIC
END:VEVENT
END:VCALENDAR
