BEGIN:VCALENDAR
PRODID:-//kirchenweb.ch gmbh//veranstaltungsausgabe v2.0//DE
VERSION:2.0
METHOD:PUBLISH
BEGIN:VEVENT
DTSTART:20260920T153000Z
DTEND:20260920T183000Z
LOCATION:Pentorama Amriswil\, Arbonerstrasse 2/4\, 8580 Amriswil
TRANSP:OPAQUE
SEQUENCE:0
UID:33588-veranstaltung@evang-amriswil.ch
DTSTAMP:20250424T080238Z
DESCRIPTION:17.30 Uhr Streetfood beim Pentorama\n19.00 Uhr Start
  Jugendgottesdienst\n\nKontakt: Willy Ramazani\, Jugendarbeiter\nMarina
  Nägeli\, Jugenddiakonin in Ausbildung\n\nWeitere Infos:
  https://www.evang-amriswil.ch/veranstaltung/33588
SUMMARY:Godi Amriswil (LK Festival)
PRIORITY:5
X-MICROSOFT-CDO-IMPORTANCE:1
CLASS:PUBLIC
END:VEVENT
END:VCALENDAR
