BEGIN:VCALENDAR
PRODID:-//kirchenweb.ch gmbh//veranstaltungsausgabe v2.0//DE
VERSION:2.0
METHOD:PUBLISH
BEGIN:VEVENT
DTSTART:20260424T151500Z
DTEND:20260424T154500Z
LOCATION:Evangelische Kirche Oberaach\, Im Gärtli\, 8587 Oberaach
TRANSP:OPAQUE
SEQUENCE:0
UID:33798-veranstaltung@evang-amriswil.ch
DTSTAMP:20250806T160831Z
DESCRIPTION:Kontakt: liliane.germann@evang-amriswil.ch\n\nWeitere Infos:
  https://www.evang-amriswil.ch/veranstaltung/33798
SUMMARY:Jugendgottesdienst in Oberaach
PRIORITY:5
X-MICROSOFT-CDO-IMPORTANCE:1
CLASS:PUBLIC
END:VEVENT
END:VCALENDAR
