BEGIN:VCALENDAR
PRODID:-//kirchenweb.ch gmbh//veranstaltungsausgabe v2.0//DE
VERSION:2.0
METHOD:PUBLISH
BEGIN:VEVENT
DTSTART:20260423T151500Z
DTEND:20260423T154500Z
LOCATION:Ehemaliges Evang. Kirchgemeindehaus\, Romanshornerstr. 6\, 8580
  Amriswil
TRANSP:OPAQUE
SEQUENCE:0
UID:33815-veranstaltung@evang-amriswil.ch
DTSTAMP:20250806T160828Z
DESCRIPTION:Kontakt: Jugendarbeiter Willy Ramazani\n\nWeitere Infos:
  https://www.evang-amriswil.ch/veranstaltung/33815
SUMMARY:Jugendgottesdienst in Amriswil
PRIORITY:5
X-MICROSOFT-CDO-IMPORTANCE:1
CLASS:PUBLIC
END:VEVENT
END:VCALENDAR
