BEGIN:VCALENDAR
PRODID:-//kirchenweb.ch gmbh//veranstaltungsausgabe v2.0//DE
VERSION:2.0
METHOD:PUBLISH
BEGIN:VEVENT
DTSTART:20260318T094500Z
DTEND:20260318T101500Z
LOCATION:Alterspflegeheim Liebenau Debora\, Kreuzlingerstrasse 83\, 8580
  Amriswil
TRANSP:OPAQUE
SEQUENCE:0
UID:33853-veranstaltung@evang-amriswil.ch
DTSTAMP:20250506T132730Z
DESCRIPTION:Kontakt: Sekretariat: Liliane Germann\n\nWeitere Infos:
  https://www.evang-amriswil.ch/veranstaltung/33853
SUMMARY:Andacht Alterspflegeheim Liebenau Debora\, mit Abendmahl
PRIORITY:5
X-MICROSOFT-CDO-IMPORTANCE:1
CLASS:PUBLIC
END:VEVENT
END:VCALENDAR
