BEGIN:VCALENDAR
PRODID:-//kirchenweb.ch gmbh//veranstaltungsausgabe v2.0//DE
VERSION:2.0
METHOD:PUBLISH
BEGIN:VEVENT
DTSTART:20260617T084500Z
DTEND:20260617T091500Z
LOCATION:Alterspflegeheim Liebenau Debora\, Kreuzlingerstrasse 83\, 8580
  Amriswil
TRANSP:OPAQUE
SEQUENCE:0
UID:33856-veranstaltung@evang-amriswil.ch
DTSTAMP:20250506T132552Z
DESCRIPTION:Kontakt: Viva Kirche Amriswil: Gernot Rettig\n\nWeitere Infos:
  https://www.evang-amriswil.ch/veranstaltung/33856
SUMMARY:Andacht Alterspflegeheim Liebenau Debora
PRIORITY:5
X-MICROSOFT-CDO-IMPORTANCE:1
CLASS:PUBLIC
END:VEVENT
END:VCALENDAR
