BEGIN:VCALENDAR
PRODID:-//kirchenweb.ch gmbh//veranstaltungsausgabe v2.0//DE
VERSION:2.0
METHOD:PUBLISH
BEGIN:VEVENT
DTSTART:20260530T091100Z
DTEND:20260530T094100Z
LOCATION:Evangelische Kirche Amriswil\, Friedhofweg\, 8580 Amriswil
TRANSP:OPAQUE
SEQUENCE:0
UID:34247-veranstaltung@evang-amriswil.ch
DTSTAMP:20260423T102522Z
DESCRIPTION:Am Samstag\, 30. Mai 2026\, um 11:11 Uhr\, begegnen sich in
  der Evangelischen Kirche Amriswil drei Musiker und eine ungewöhnliche
  Instrumentenvielfalt. Die Organistin Dagmar Grigarová gestaltet
  gemeinsam mit ihren Gästen Karl Svec und Pascal Miller ein Programm\,
  das die klanglichen Kontraste von Metall und Holz feiert.\n\nDas Trio
  bringt Instrumente zusammen\, die man selten in dieser Dichte hört: Den
  strahlenden Glanz von Trompete und Zink\, die feinen Töne der
  Blockflöte und die gewaltige Präsenz von gleich zwei Alphörnern. Dabei
  bleibt es nicht nur beim Zuhören – Karl Svec und Pascal Miller werden
  das Publikum direkt ansprechen und Wissenswertes über die Herkunft und
  Spielweise ihrer Instrumente verraten.\n\nDas Programm spannt den Bogen
  von festlichen Renaissance-Tänzen eines Michael Praetorius bis hin zu
  den vertrauten Klängen der Schweizer Berge. Mit Blick auf die kommende
  Sommersaison laden die Alphornklänge dazu ein\, sich musikalisch auf die
  nächste Bergwanderung einzustimmen. Den solistischen Rahmen an der Orgel
  bildet dabei die ländliche «Schanfigger Bauernhochzeit». Mittendrin
  erklingt ein eher unbekanntes Juwel von J. S. Bach – sein Kleines
  Präludium (BWV 933) –\, das in einer augenzwinkernden\, jazzigen
  Bearbeitung überrascht und perfekt mit dem lässigen «Alpen-Blues» von
  Hans-Jürg Sommer korrespondiert.\n\nKonzertdauer: 30 Minuten. Im
  Anschluss besteht die Möglichkeit einer kurzen Orgelführung. Eintritt
  frei\, Kollekte.\n\nKontakt: Amriswiler Konzerte: Dagmar Grigarova\n
 \nWeitere Infos: https://www.evang-amriswil.ch/veranstaltung/34247
SUMMARY:Elf nach Elf - Blech und Holz
PRIORITY:5
X-MICROSOFT-CDO-IMPORTANCE:1
CLASS:PUBLIC
END:VEVENT
END:VCALENDAR
