BEGIN:VCALENDAR
PRODID:-//kirchenweb.ch gmbh//veranstaltungsausgabe v2.0//DE
VERSION:2.0
METHOD:PUBLISH
BEGIN:VEVENT
DTSTART:20260611T173000Z
DTEND:20260611T190000Z
LOCATION:Evangelische Kirche Amriswil\, Friedhofweg\, 8580 Amriswil
TRANSP:OPAQUE
SEQUENCE:0
UID:34363-veranstaltung@evang-amriswil.ch
DTSTAMP:20260330T080649Z
DESCRIPTION:Kontakt: Claudia Engeli\nWilli Hausammann\n\nWeitere Infos:
  https://www.evang-amriswil.ch/veranstaltung/34363
SUMMARY:Kirchenchorprobe (Kirche Amriswil)
PRIORITY:5
X-MICROSOFT-CDO-IMPORTANCE:1
CLASS:PUBLIC
END:VEVENT
END:VCALENDAR
