BEGIN:VCALENDAR
PRODID:-//kirchenweb.ch gmbh//veranstaltungsausgabe v2.0//DE
VERSION:2.0
METHOD:PUBLISH
BEGIN:VEVENT
DTSTART:20260429T173000Z
DTEND:20260429T190000Z
LOCATION:Evangelische Kirche Amriswil\, Friedhofweg\, 8580 Amriswil
TRANSP:OPAQUE
SEQUENCE:0
UID:34403-veranstaltung@evang-amriswil.ch
DTSTAMP:20260220T143920Z
DESCRIPTION:Einführung in die christliche Medititation\nDas Christentum
  kennt eine grosse Vielfalt von Meditationsformen. In diesem
  Einführungskurs lernen wir unterschiedliche Traditionen kennen – etwa
  das innere Bewegen biblischer Worte\, das stille Verweilen in Gottes
  Gegenwart oder das Herzensgebet. Dabei ist Raum zum Ausprobieren\,
  Entdecken und Hineinspüren\, welche Formen mir persönlich entsprechen.
 \n\nKontakt: Pfr. Markus Keller\n\nWeitere Infos:
  https://www.evang-amriswil.ch/veranstaltung/34403
SUMMARY:In der Stille Gott begegnen
PRIORITY:5
X-MICROSOFT-CDO-IMPORTANCE:1
CLASS:PUBLIC
END:VEVENT
END:VCALENDAR
