BEGIN:VCALENDAR
PRODID:-//kirchenweb.ch gmbh//veranstaltungsausgabe v2.0//DE
VERSION:2.0
METHOD:PUBLISH
BEGIN:VEVENT
DTSTART:20261202T050000Z
DTEND:20261202T054500Z
LOCATION:Altes Pfarrhaus\, Bahnhofstrasse 3\, 8580 Amriswil
TRANSP:OPAQUE
SEQUENCE:0
UID:34424-veranstaltung@evang-amriswil.ch
DTSTAMP:20251023T100711Z
DESCRIPTION:Auf dem gemeinsamen Gebet liegt eine grosse Verheissung. So
  beten wir in der frühen Morgenstunde einer einfachen Liturgie folgend
  für Anliegen unserer Kirchgemeinde\, unseres Landes und weltweit.
  Anschliessend gemeinsames Frühstück.\n\n\nKontakt: Pfr. Markus Keller\n
 \nWeitere Infos: https://www.evang-amriswil.ch/veranstaltung/34424
SUMMARY:Morgengebet
PRIORITY:5
X-MICROSOFT-CDO-IMPORTANCE:1
CLASS:PUBLIC
END:VEVENT
END:VCALENDAR
