BEGIN:VCALENDAR
PRODID:-//kirchenweb.ch gmbh//veranstaltungsausgabe v2.0//DE
VERSION:2.0
METHOD:PUBLISH
BEGIN:VEVENT
DTSTART:20260910T120000Z
DTEND:20260910T143000Z
LOCATION:Altes Pfarrhaus\, Bahnhofstrasse 3\, 8580 Amriswil
TRANSP:OPAQUE
SEQUENCE:0
UID:34465-veranstaltung@evang-amriswil.ch
DTSTAMP:20260108T145014Z
DESCRIPTION:Ein Treffen für Personen\, welche gerne ein Spiel machen\,
  spannende Geschichten hören und sich bei Kaffee und Kuchen mit anderen
  austauschen. Voraussetzungen gibt es keine. Damen und Herren sind
  herzlich willkommen. \n\nKontakt: Regula Deuber und Margrit Vogel\n
 \nWeitere Infos: https://www.evang-amriswil.ch/veranstaltung/34465
SUMMARY:Spielnachmittag
PRIORITY:5
X-MICROSOFT-CDO-IMPORTANCE:1
CLASS:PUBLIC
END:VEVENT
END:VCALENDAR
