BEGIN:VCALENDAR
PRODID:-//kirchenweb.ch gmbh//veranstaltungsausgabe v2.0//DE
VERSION:2.0
METHOD:PUBLISH
BEGIN:VEVENT
DTSTART:20261210T130000Z
DTEND:20261210T153000Z
LOCATION:Altes Pfarrhaus\, Bahnhofstrasse 3\, 8580 Amriswil
TRANSP:OPAQUE
SEQUENCE:0
UID:34469-veranstaltung@evang-amriswil.ch
DTSTAMP:20260108T145037Z
DESCRIPTION:Ein Treffen für Personen\, welche gerne ein Spiel machen und
  sich bei Kaffee/Tee und Kuchen mit anderen austauschen. Voraussetzungen
  gibt es keine. Damen und Herren sind herzlich willkommen. \n\nKontakt:
  Regula Deuber und Margrit Vogel\n\n\nWeitere Infos:
  https://www.evang-amriswil.ch/veranstaltung/34469
SUMMARY:Spielnachmittag\, mit Adventsfeier
PRIORITY:5
X-MICROSOFT-CDO-IMPORTANCE:1
CLASS:PUBLIC
END:VEVENT
END:VCALENDAR
