BEGIN:VCALENDAR
PRODID:-//kirchenweb.ch gmbh//veranstaltungsausgabe v2.0//DE
VERSION:2.0
METHOD:PUBLISH
BEGIN:VEVENT
DTSTART:20260425T120000Z
DTEND:20260425T150000Z
LOCATION:Altes Pfarrhaus\, Bahnhofstrasse 3\, 8580 Amriswil
TRANSP:OPAQUE
SEQUENCE:0
UID:34560-veranstaltung@evang-amriswil.ch
DTSTAMP:20251110T191214Z
DESCRIPTION:Im Cevi solltest du wettergerechte Kleidung tragen.
 \nWillkommen sind alle Kinder ab dem Kindergarten bis zur 6. Klasse.\nDas
  Leiterteam freut sich auf dich!\n\nKontakt: Laurin Laib\n\nWeitere Infos:
  https://www.evang-amriswil.ch/veranstaltung/34560
SUMMARY:Cevi Jungschar/Fröschli
PRIORITY:5
X-MICROSOFT-CDO-IMPORTANCE:1
CLASS:PUBLIC
END:VEVENT
END:VCALENDAR
