BEGIN:VCALENDAR
PRODID:-//kirchenweb.ch gmbh//veranstaltungsausgabe v2.0//DE
VERSION:2.0
METHOD:PUBLISH
BEGIN:VEVENT
DTSTART;VALUE=DATE:20260707
DTEND;VALUE=DATE:20260708
LOCATION:Region Amriswil\, \,
TRANSP:OPAQUE
SEQUENCE:0
UID:34579-veranstaltung@evang-amriswil.ch
DTSTAMP:20251110T192225Z
DESCRIPTION:Infos und Anmeldung folgen\n\nKontakt: Laurin Laib\n\nWeitere
  Infos: https://www.evang-amriswil.ch/veranstaltung/34579
SUMMARY:Cevi Sommerlager
PRIORITY:5
X-MICROSOFT-CDO-IMPORTANCE:1
CLASS:PUBLIC
END:VEVENT
END:VCALENDAR
