BEGIN:VCALENDAR
PRODID:-//kirchenweb.ch gmbh//veranstaltungsausgabe v2.0//DE
VERSION:2.0
METHOD:PUBLISH
BEGIN:VEVENT
DTSTART:20260424T173000Z
DTEND:20260424T183000Z
LOCATION:Evangelische Kirche Oberaach\, Im Gärtli\, 8587 Oberaach
TRANSP:OPAQUE
SEQUENCE:0
UID:34612-veranstaltung@evang-amriswil.ch
DTSTAMP:20251112T142330Z
DESCRIPTION:Am Ende der Arbeitswoche suchen wir gemeinsam Gott\, richten
  uns auf ihn aus und beten ihn mit neuen Liedern an. \n\nKontakt: Pfr.
  Markus Keller\n\nWeitere Infos:
  https://www.evang-amriswil.ch/veranstaltung/34612
SUMMARY:Tankstelle - Anbetungsabend zum Wochenende
PRIORITY:5
X-MICROSOFT-CDO-IMPORTANCE:1
CLASS:PUBLIC
END:VEVENT
END:VCALENDAR
