BEGIN:VCALENDAR
PRODID:-//kirchenweb.ch gmbh//veranstaltungsausgabe v2.0//DE
VERSION:2.0
METHOD:PUBLISH
BEGIN:VEVENT
DTSTART:20261115T160000Z
DTEND:20261115T180000Z
LOCATION:Evangelische Kirche Amriswil\, Friedhofweg\, 8580 Amriswil
TRANSP:OPAQUE
SEQUENCE:0
UID:34635-veranstaltung@evang-amriswil.ch
DTSTAMP:20251202T142153Z
DESCRIPTION:Eintritt frei\, Kollekte\n\nInformationen bei Hans Baumann\,
  Tel. +41 71 411 51 34\n\nKontakt: Liliane Germann  (Sekretärin)\n
 \nWeitere Infos: https://www.evang-amriswil.ch/veranstaltung/34635
SUMMARY:Konzert Aach-Sänger
PRIORITY:5
X-MICROSOFT-CDO-IMPORTANCE:1
CLASS:PUBLIC
END:VEVENT
END:VCALENDAR
