BEGIN:VCALENDAR
PRODID:-//kirchenweb.ch gmbh//veranstaltungsausgabe v2.0//DE
VERSION:2.0
METHOD:PUBLISH
BEGIN:VEVENT
DTSTART:20260529T170000Z
DTEND:20260529T193000Z
LOCATION:Altes Pfarrhaus\, Bahnhofstrasse 3\, 8580 Amriswil
TRANSP:OPAQUE
SEQUENCE:0
UID:34669-veranstaltung@evang-amriswil.ch
DTSTAMP:20260113T191205Z
DESCRIPTION:Kontakt: Willy Ramazani\, Jugendarbeiter\n\nWeitere Infos:
  https://www.evang-amriswil.ch/veranstaltung/34669
SUMMARY:Light Factory
PRIORITY:5
X-MICROSOFT-CDO-IMPORTANCE:1
CLASS:PUBLIC
END:VEVENT
END:VCALENDAR
