BEGIN:VCALENDAR
PRODID:-//kirchenweb.ch gmbh//veranstaltungsausgabe v2.0//DE
VERSION:2.0
METHOD:PUBLISH
BEGIN:VEVENT
DTSTART:20261128T080000Z
DTEND:20261128T140000Z
LOCATION:Altes Pfarrhaus\, Bahnhofstrasse 3\, 8580 Amriswil
TRANSP:OPAQUE
SEQUENCE:0
UID:34717-veranstaltung@evang-amriswil.ch
DTSTAMP:20251216T083130Z
DESCRIPTION:Der Erlös vom Weihnachtsmarkt wird zwei Projekten der "...mir
  hälfed-Sammlung" der Evang. Kirchgemeinde Amriswil-Sommeri gespendet.
  Herzliche Einladung!\n\n\n\n\nKontakt: Frieda Bösch\n\nWeitere Infos:
  https://www.evang-amriswil.ch/veranstaltung/34717
SUMMARY:Weihnachtsmarkt
PRIORITY:5
X-MICROSOFT-CDO-IMPORTANCE:1
CLASS:PUBLIC
END:VEVENT
END:VCALENDAR
