BEGIN:VCALENDAR
PRODID:-//kirchenweb.ch gmbh//veranstaltungsausgabe v2.0//DE
VERSION:2.0
METHOD:PUBLISH
BEGIN:VEVENT
DTSTART:20261126T130000Z
DTEND:20261126T160000Z
LOCATION:Altes Pfarrhaus\, Bahnhofstrasse 3\, 8580 Amriswil
TRANSP:OPAQUE
SEQUENCE:0
UID:34720-veranstaltung@evang-amriswil.ch
DTSTAMP:20251216T083720Z
DESCRIPTION:Kontakt: Frieda Bösch\n\nWeitere Infos:
  https://www.evang-amriswil.ch/veranstaltung/34720
SUMMARY:Annahme von Strick- und Bastelsachen für den Weihnachtsmarkt
PRIORITY:5
X-MICROSOFT-CDO-IMPORTANCE:1
CLASS:PUBLIC
END:VEVENT
END:VCALENDAR
