BEGIN:VCALENDAR
PRODID:-//kirchenweb.ch gmbh//veranstaltungsausgabe v2.0//DE
VERSION:2.0
METHOD:PUBLISH
BEGIN:VEVENT
DTSTART:20261219T103000Z
DTEND:20261219T130000Z
LOCATION:Altes Pfarrhaus\, Bahnhofstrasse 3\, 8580 Amriswil
TRANSP:OPAQUE
SEQUENCE:0
UID:34729-veranstaltung@evang-amriswil.ch
DTSTAMP:20251217T073218Z
DESCRIPTION:Kontakt: Markus Schaltegger\n\nWeitere Infos:
  https://www.evang-amriswil.ch/veranstaltung/34729
SUMMARY:Pasta-Plausch
PRIORITY:5
X-MICROSOFT-CDO-IMPORTANCE:1
CLASS:PUBLIC
END:VEVENT
END:VCALENDAR
