BEGIN:VCALENDAR
PRODID:-//kirchenweb.ch gmbh//veranstaltungsausgabe v2.0//DE
VERSION:2.0
METHOD:PUBLISH
BEGIN:VEVENT
DTSTART:20260828T060000Z
DTEND:20260828T140000Z
LOCATION:Treffpunkt : gemäss Wanderprogramm\, \,
TRANSP:OPAQUE
SEQUENCE:0
UID:34738-veranstaltung@evang-amriswil.ch
DTSTAMP:20260126T162443Z
DESCRIPTION:Kontakt: Neue Teilnehmende oder Infos zur Wanderung melden
  sich bitte bei\nEdwin Schmid Lohstrasse 21\, 8580 Amriswil / Natel 079
  747 56 23\n\nWeitere Infos:
  https://www.evang-amriswil.ch/veranstaltung/34738
SUMMARY:60+ / Rickenbach - Wilen - Littenheid - Wiezikon
PRIORITY:5
X-MICROSOFT-CDO-IMPORTANCE:1
CLASS:PUBLIC
END:VEVENT
END:VCALENDAR
