BEGIN:VCALENDAR
PRODID:-//kirchenweb.ch gmbh//veranstaltungsausgabe v2.0//DE
VERSION:2.0
METHOD:PUBLISH
BEGIN:VEVENT
DTSTART:20260424T060000Z
DTEND:20260424T140000Z
LOCATION:Treffpunkt : gemäss Wanderprogramm\, \,
TRANSP:OPAQUE
SEQUENCE:0
UID:34744-veranstaltung@evang-amriswil.ch
DTSTAMP:20260126T162344Z
DESCRIPTION:Kontakt: Neue Teilnehmende oder Infos zur Wanderung melden
  sich bitte bei\nEdwin Schmid Lohstrasse 21\, 8580 Amriswil / Natel 079
  747 56 23\n\nWeitere Infos:
  https://www.evang-amriswil.ch/veranstaltung/34744
SUMMARY:60+ / Bernrain - Bätershausen - Lengwilerweiher - Lengwil -
  Siegershausen
PRIORITY:5
X-MICROSOFT-CDO-IMPORTANCE:1
CLASS:PUBLIC
END:VEVENT
END:VCALENDAR
