BEGIN:VCALENDAR
PRODID:-//kirchenweb.ch gmbh//veranstaltungsausgabe v2.0//DE
VERSION:2.0
METHOD:PUBLISH
BEGIN:VEVENT
DTSTART:20261020T120000Z
DTEND:20261020T143000Z
LOCATION:Altes Pfarrhaus\, Bahnhofstrasse 3\, 8580 Amriswil
TRANSP:OPAQUE
SEQUENCE:0
UID:34805-veranstaltung@evang-amriswil.ch
DTSTAMP:20260120T132416Z
DESCRIPTION:Gemeinsam macht stricken noch viel mehr Spass! Sie stricken
  Ihren Wollpullover oder die Socken für Ihre Liebsten. Wir servieren
  einen fein duftenden Kaffee oder Tee dazu!\n\nKontakt: Frieda Bösch\n
 \nWeitere Infos: https://www.evang-amriswil.ch/veranstaltung/34805
SUMMARY:Strick-Kafi Tabita
PRIORITY:5
X-MICROSOFT-CDO-IMPORTANCE:1
CLASS:PUBLIC
END:VEVENT
END:VCALENDAR
