BEGIN:VCALENDAR
PRODID:-//kirchenweb.ch gmbh//veranstaltungsausgabe v2.0//DE
VERSION:2.0
METHOD:PUBLISH
BEGIN:VEVENT
DTSTART:20261212T180000Z
DTEND:20261212T190000Z
LOCATION:Evangelische Kirche Amriswil\, Friedhofweg\, 8580 Amriswil
TRANSP:OPAQUE
SEQUENCE:0
UID:34813-veranstaltung@evang-amriswil.ch
DTSTAMP:20260312T111344Z
DESCRIPTION:Kontakt: Dagmar Grigarová\n\nWeitere Infos:
  https://www.evang-amriswil.ch/veranstaltung/34813
SUMMARY:SHA - Festkonzert
PRIORITY:5
X-MICROSOFT-CDO-IMPORTANCE:1
CLASS:PUBLIC
END:VEVENT
END:VCALENDAR
