BEGIN:VCALENDAR
PRODID:-//kirchenweb.ch gmbh//veranstaltungsausgabe v2.0//DE
VERSION:2.0
METHOD:PUBLISH
BEGIN:VEVENT
DTSTART:20260527T160000Z
DTEND:20260527T190000Z
LOCATION:Altes Pfarrhaus\, Bahnhofstrasse 3\, 8580 Amriswil
TRANSP:OPAQUE
SEQUENCE:0
UID:34895-veranstaltung@evang-amriswil.ch
DTSTAMP:20260324T204947Z
DESCRIPTION:Kontakt: Pfr. Michael Ziegler\n\nWeitere Infos:
  https://www.evang-amriswil.ch/veranstaltung/34895
SUMMARY:Konf-Bräteln
PRIORITY:5
X-MICROSOFT-CDO-IMPORTANCE:1
CLASS:PUBLIC
END:VEVENT
END:VCALENDAR
