BEGIN:VCALENDAR
PRODID:-//kirchenweb.ch gmbh//veranstaltungsausgabe v2.0//DE
VERSION:2.0
METHOD:PUBLISH
BEGIN:VEVENT
DTSTART:20260603T173000Z
DTEND:20260603T190000Z
LOCATION:Evangelische Kirche Oberaach\, Im Gärtli\, 8587 Oberaach
TRANSP:OPAQUE
SEQUENCE:0
UID:34906-veranstaltung@evang-amriswil.ch
DTSTAMP:20260330T080511Z
DESCRIPTION:Kontakt: Claudia Engeli\nWilli Hausammann\n\nWeitere Infos:
  https://www.evang-amriswil.ch/veranstaltung/34906
SUMMARY:Hauptprobe Kirchenchor (Kirche Oberaach)
PRIORITY:5
X-MICROSOFT-CDO-IMPORTANCE:1
CLASS:PUBLIC
END:VEVENT
END:VCALENDAR
