BEGIN:VCALENDAR
PRODID:-//kirchenweb.ch gmbh//veranstaltungsausgabe v2.0//DE
VERSION:2.0
METHOD:PUBLISH
BEGIN:VEVENT
DTSTART:20260624T173000Z
DTEND:20260624T183000Z
LOCATION:Evangelische Kirche Amriswil\, Friedhofweg\, 8580 Amriswil
TRANSP:OPAQUE
SEQUENCE:0
UID:34907-veranstaltung@evang-amriswil.ch
DTSTAMP:20260331T080228Z
DESCRIPTION:Kontakt: Claudia Schindler (Präsidentin)\n\nWeitere Infos:
  https://www.evang-amriswil.ch/veranstaltung/34907
SUMMARY:Kirchgemeindeversammlung ausserordentlich
PRIORITY:5
X-MICROSOFT-CDO-IMPORTANCE:1
CLASS:PUBLIC
END:VEVENT
END:VCALENDAR
