BEGIN:VCALENDAR
PRODID:-//kirchenweb.ch gmbh//veranstaltungsausgabe v2.0//DE
VERSION:2.0
METHOD:PUBLISH
BEGIN:VEVENT
DTSTART:20270523T150000Z
DTEND:20270523T160000Z
LOCATION:Katholische Kirche Amriswil\, St. Stefan\, Rütistrasse\, 8580
  Amriswil
TRANSP:OPAQUE
SEQUENCE:0
UID:34947-veranstaltung@evang-amriswil.ch
DTSTAMP:20260409T083959Z
DESCRIPTION:Für kleine Kinder steht bei allen Gottesdiensten ein
  Kinderhüeti-Raum direkt in der Kirche zur Verfügung. Bei
  Familiengottesdiensten und Taufen ist dieser betreut.\n\nNach jedem
  Gottesdienst gibt es einen Kirchenkaffee in der Kirche\, herzliche
  Einladung!\n\nKontakt: Pfr. Michael Ziegler\n\nWeitere Infos:
  https://www.evang-amriswil.ch/veranstaltung/34947
SUMMARY:Ökumenischer Gottesdienst mit Grillfest (kath.)
PRIORITY:5
X-MICROSOFT-CDO-IMPORTANCE:1
CLASS:PUBLIC
END:VEVENT
END:VCALENDAR
