BEGIN:VCALENDAR
PRODID:-//kirchenweb.ch gmbh//veranstaltungsausgabe v2.0//DE
VERSION:2.0
METHOD:PUBLISH
BEGIN:VEVENT
DTSTART:20261129T083000Z
DTEND:20261129T091500Z
LOCATION:Alters- und Pflegezentrum (APZ)\, Heimstrasse 15\, 8580 Amriswil
TRANSP:OPAQUE
SEQUENCE:0
UID:34954-veranstaltung@evang-amriswil.ch
DTSTAMP:20260403T124658Z
DESCRIPTION:Gottesdienst für Bewohnende des APZ und der Alterssiedlung
  Egelmoos.\nJugendliche\, die in den diakonischen Dienst eingeführt
  sind\, treffen sich 30 Minuten vor Gottesdienstbeginn.\n\nKontakt: Karin
  Engeler\n\nWeitere Infos:
  https://www.evang-amriswil.ch/veranstaltung/34954
SUMMARY:Gottesdienst im Alters- und Pflegezentrum (APZ)\, Gedenkfeier für
  Verstorbene
PRIORITY:5
X-MICROSOFT-CDO-IMPORTANCE:1
CLASS:PUBLIC
END:VEVENT
END:VCALENDAR
