BEGIN:VCALENDAR
PRODID:-//kirchenweb.ch gmbh//veranstaltungsausgabe v2.0//DE
VERSION:2.0
METHOD:PUBLISH
BEGIN:VEVENT
DTSTART:20260819T120000Z
DTEND:20260819T133000Z
LOCATION:Alters- und Pflegezentrum (APZ)\, Heimstrasse 15\, 8580 Amriswil
TRANSP:OPAQUE
SEQUENCE:0
UID:34956-veranstaltung@evang-amriswil.ch
DTSTAMP:20260403T125510Z
DESCRIPTION:Einführung in den diakonischen Dienst der Jugendlichen bei
  APZ-Gottesdiensten. \n\nKontakt: Pfr. Michael Ziegler\n\nWeitere Infos:
  https://www.evang-amriswil.ch/veranstaltung/34956
SUMMARY:Einführung für 5.Klässler\, diakonischer Dienst bei
  APZ-Gottesdiensten
PRIORITY:5
X-MICROSOFT-CDO-IMPORTANCE:1
CLASS:PUBLIC
END:VEVENT
END:VCALENDAR
