BEGIN:VCALENDAR
PRODID:-//kirchenweb.ch gmbh//veranstaltungsausgabe v2.0//DE
VERSION:2.0
METHOD:PUBLISH
BEGIN:VEVENT
DTSTART:20261003T060000Z
DTEND:20261003T080000Z
LOCATION:Evangelische Kirche Oberaach\, Im Gärtli\, 8587 Oberaach
TRANSP:OPAQUE
SEQUENCE:0
UID:34957-veranstaltung@evang-amriswil.ch
DTSTAMP:20260403T125815Z
DESCRIPTION:Wir nehmen dankbar Gaben aus Obstanlagen\, Feldern und Gärten
  sowie Gebackenes\, Konfitüren etc. von 8 bis 10 Uhr bei und in der
  Kirche Oberaach entgegen. Die Gaben schmücken dann den Gottesdienstraum
  und werden anschliessend an den Gottesdienst verkauft. Der Erlös geht zu
  Gunsten der Sammelaktion "... mir hälfed" der Kirchgemeinde.\n\nDas Team
  beginnt erst ca. um 17.00 Uhr mit dem Einrichten. \n\nKontakt:
  Sekretariat: Liliane Germann\n\nWeitere Infos:
  https://www.evang-amriswil.ch/veranstaltung/34957
SUMMARY:Annahme der Gaben für Erntedank-Gottesdienst
PRIORITY:5
X-MICROSOFT-CDO-IMPORTANCE:1
CLASS:PUBLIC
END:VEVENT
END:VCALENDAR
