BEGIN:VCALENDAR
PRODID:-//kirchenweb.ch gmbh//veranstaltungsausgabe v2.0//DE
VERSION:2.0
METHOD:PUBLISH
BEGIN:VEVENT
DTSTART:20261215T190000Z
DTEND:20261215T200000Z
LOCATION:Evangelische Kirche Amriswil\, Friedhofweg\, 8580 Amriswil
TRANSP:OPAQUE
SEQUENCE:0
UID:34959-veranstaltung@evang-amriswil.ch
DTSTAMP:20260408T150730Z
DESCRIPTION:Kontakt: Claudia Engeli\, Willi Hausammann\n\nWeitere Infos:
  https://www.evang-amriswil.ch/veranstaltung/34959
SUMMARY:Singen und Musizieren im Advent
PRIORITY:5
X-MICROSOFT-CDO-IMPORTANCE:1
CLASS:PUBLIC
END:VEVENT
END:VCALENDAR
