BEGIN:VCALENDAR
PRODID:-//kirchenweb.ch gmbh//veranstaltungsausgabe v2.0//DE
VERSION:2.0
METHOD:PUBLISH
BEGIN:VEVENT
DTSTART:20261004T080000Z
DTEND:20261004T090000Z
LOCATION:Evangelische Kirche Oberaach\, Im Gärtli\, 8587 Oberaach
TRANSP:OPAQUE
SEQUENCE:0
UID:34976-veranstaltung@evang-amriswil.ch
DTSTAMP:20260423T134735Z
DESCRIPTION:Für kleine Kinder steht bei allen Gottesdiensten ein
  Kinderhüeti-Raum direkt in der Kirche zur Verfügung. Bei
  Familiengottesdiensten und Taufen ist dieser betreut.\n\nGottesdienst mit
  Erträgen von Feldern\, Obstanlagen\, Gärten und aus der Küche.
  Anschliessend an den Gottesdienst Teilete beim Kirchenkaffee und Verkauf
  der Gaben zu Gunsten unserer «mir hälfed»-Sammelaktion. Gaben können
  am Samstag 3.10.2026 in der Kirche deponiert oder auch noch am Sonntag
  direkt vor dem Gottesdienst abgegeben werden. \nNach jedem Gottesdienst
  gibt es einen Kirchenkaffee in der Kirche\, herzliche Einladung!\n
 \nKontakt: Pfr. Michael Ziegler\n\nWeitere Infos:
  https://www.evang-amriswil.ch/veranstaltung/34976
SUMMARY:Gottesdienst in Oberaach zum Erntedank\, mit Input-Team
PRIORITY:5
X-MICROSOFT-CDO-IMPORTANCE:1
CLASS:PUBLIC
END:VEVENT
END:VCALENDAR
