BEGIN:VCALENDAR
PRODID:-//kirchenweb.ch gmbh//veranstaltungsausgabe v2.0//DE
VERSION:2.0
METHOD:PUBLISH
BEGIN:VEVENT
DTSTART:20270103T090000Z
DTEND:20270103T100000Z
LOCATION:Evangelische Kirche Oberaach\, Im Gärtli\, 8587 Oberaach
TRANSP:OPAQUE
SEQUENCE:0
UID:34979-veranstaltung@evang-amriswil.ch
DTSTAMP:20260409T081128Z
DESCRIPTION:Begrüssung von Pfr. Stellvertreter Herr Daniel Kunz. \n\nFür
  kleine Kinder steht bei allen Gottesdiensten ein Kinderhüeti-Raum direkt
  in der Kirche zur Verfügung. Bei Familiengottesdiensten und Taufen ist
  dieser betreut.\n\nNach jedem Gottesdienst gibt es einen Kirchenkaffee in
  der Kirche\, herzliche Einladung!\n\nKontakt: Stv. Pfr. Daniel Kunz\n
 \nWeitere Infos: https://www.evang-amriswil.ch/veranstaltung/34979
SUMMARY:Gottesdienst in Oberaach
PRIORITY:5
X-MICROSOFT-CDO-IMPORTANCE:1
CLASS:PUBLIC
END:VEVENT
END:VCALENDAR
