BEGIN:VCALENDAR
PRODID:-//kirchenweb.ch gmbh//veranstaltungsausgabe v2.0//DE
VERSION:2.0
METHOD:PUBLISH
BEGIN:VEVENT
DTSTART:20261129T090000Z
DTEND:20261129T100000Z
LOCATION:Evangelische Kirche Oberaach\, Im Gärtli\, 8587 Oberaach
TRANSP:OPAQUE
SEQUENCE:0
UID:34995-veranstaltung@evang-amriswil.ch
DTSTAMP:20260409T091253Z
DESCRIPTION:Für kleine Kinder steht bei allen Gottesdiensten ein
  Kinderhüeti-Raum direkt in der Kirche zur Verfügung. Bei
  Familiengottesdiensten und Taufen ist dieser betreut.\n\nAnschliessend an
  den Gottesdienst gibt es einen Kirchenkaffee in der Kirche\, herzliche
  Einladung!\n\n\n\nKontakt: Pfr. Michael Ziegler\n\nWeitere Infos:
  https://www.evang-amriswil.ch/veranstaltung/34995
SUMMARY:Familiengottesdienst in Oberaach am 1. Advent mit
  Adventsgesteck-Verkauf
PRIORITY:5
X-MICROSOFT-CDO-IMPORTANCE:1
CLASS:PUBLIC
END:VEVENT
END:VCALENDAR
