BEGIN:VCALENDAR
PRODID:-//kirchenweb.ch gmbh//veranstaltungsausgabe v2.0//DE
VERSION:2.0
METHOD:PUBLISH
BEGIN:VEVENT
DTSTART:20260930T141500Z
DTEND:20260930T144500Z
LOCATION:Ehem. Blindenheim Landschlacht (IBZ)\, \,
TRANSP:OPAQUE
SEQUENCE:0
UID:35017-veranstaltung@evang-amriswil.ch
DTSTAMP:20260414T160358Z
DESCRIPTION:Kurzweiliger\, anschaulicher Gottesdienst für Personen mit
  Beeinträchtigungen und deren Betreuungspersonen zu dem auch Jugendliche
  und Erwachsene der ganzen Kirchgemeinde eingeladen sind.\n\nKontakt:
  Fritz Wälchli\n\nWeitere Infos:
  https://www.evang-amriswil.ch/veranstaltung/35017
SUMMARY:Gottesdienst Bildungsstätte
PRIORITY:5
X-MICROSOFT-CDO-IMPORTANCE:1
CLASS:PUBLIC
END:VEVENT
END:VCALENDAR
