BEGIN:VCALENDAR
PRODID:-//kirchenweb.ch gmbh//veranstaltungsausgabe v2.0//DE
VERSION:2.0
METHOD:PUBLISH
BEGIN:VEVENT
DTSTART:20261025T083000Z
DTEND:20261025T091500Z
LOCATION:Alters- und Pflegezentrum (APZ)\, Heimstrasse 15\, 8580 Amriswil
TRANSP:OPAQUE
SEQUENCE:0
UID:35033-veranstaltung@evang-amriswil.ch
DTSTAMP:20260408T082502Z
DESCRIPTION:Gottesdienst für Bewohnende des APZ\, der Alterssiedlung
  Egelmoos und der Alleestrasse 11.\nJugendliche\, die in den diakonischen
  Dienst eingeführt sind\, treffen sich 30 Minuten vor Gottesdienstbeginn.
 \n\nKontakt: Pfr. Michael Ziegler\n\nWeitere Infos:
  https://www.evang-amriswil.ch/veranstaltung/35033
SUMMARY:Gottesdienst im Alters- und Pflegezentrum (APZ)
PRIORITY:5
X-MICROSOFT-CDO-IMPORTANCE:1
CLASS:PUBLIC
END:VEVENT
END:VCALENDAR
