BEGIN:VCALENDAR
PRODID:-//kirchenweb.ch gmbh//veranstaltungsausgabe v2.0//DE
VERSION:2.0
METHOD:PUBLISH
BEGIN:VEVENT
DTSTART:20270516T073000Z
DTEND:20270516T081500Z
LOCATION:Alters- und Pflegezentrum (APZ)\, Heimstrasse 15\, 8580 Amriswil
TRANSP:OPAQUE
SEQUENCE:0
UID:35038-veranstaltung@evang-amriswil.ch
DTSTAMP:20260408T083915Z
DESCRIPTION:Gottesdienst für Bewohnende des APZ\, der Alterssiedlung
  Egelmoos und der Alleestrasse 11.\nJugendliche\, die in den diakonischen
  Dienst eingeführt sind\, treffen sich 30 Minuten vor Gottesdienstbeginn.
 \n\nKontakt: Karin Engeler\n\nWeitere Infos:
  https://www.evang-amriswil.ch/veranstaltung/35038
SUMMARY:Gottesdienst im Alters- und Pflegezentrum (APZ)
PRIORITY:5
X-MICROSOFT-CDO-IMPORTANCE:1
CLASS:PUBLIC
END:VEVENT
END:VCALENDAR
