BEGIN:VCALENDAR
PRODID:-//kirchenweb.ch gmbh//veranstaltungsausgabe v2.0//DE
VERSION:2.0
METHOD:PUBLISH
BEGIN:VEVENT
DTSTART:20260821T151500Z
DTEND:20260821T154500Z
LOCATION:Evangelische Kirche Oberaach\, Im Gärtli\, 8587 Oberaach
TRANSP:OPAQUE
SEQUENCE:0
UID:35047-veranstaltung@evang-amriswil.ch
DTSTAMP:20260408T093024Z
DESCRIPTION:Kontakt: Willy Ramazani\, Jugendarbeiter\n\nWeitere Infos:
  https://www.evang-amriswil.ch/veranstaltung/35047
SUMMARY:Jugendgottesdienst in Oberaach
PRIORITY:5
X-MICROSOFT-CDO-IMPORTANCE:1
CLASS:PUBLIC
END:VEVENT
END:VCALENDAR
