BEGIN:VCALENDAR
PRODID:-//kirchenweb.ch gmbh//veranstaltungsausgabe v2.0//DE
VERSION:2.0
METHOD:PUBLISH
BEGIN:VEVENT
DTSTART:20261224T210000Z
DTEND:20261224T220000Z
LOCATION:Evangelische Kirche Oberaach\, Im Gärtli\, 8587 Oberaach
TRANSP:OPAQUE
SEQUENCE:0
UID:35053-veranstaltung@evang-amriswil.ch
DTSTAMP:20260408T151520Z
DESCRIPTION:Für kleine Kinder steht bei allen Gottesdiensten ein
  Kinderhüeti-Raum direkt in der Kirche zur Verfügung. Bei
  Familiengottesdiensten und Taufen ist dieser betreut.\n\nNach jedem
  Gottesdienst gibt es einen Kirchenkaffee in der Kirche\, herzliche
  Einladung!\n\nPredigttext: Philipper 4\,4-9\n\nKontakt: Pfr. Markus
  Keller\n\nWeitere Infos:
  https://www.evang-amriswil.ch/veranstaltung/35053
SUMMARY:Christnachtfeier in Oberaach
PRIORITY:5
X-MICROSOFT-CDO-IMPORTANCE:1
CLASS:PUBLIC
END:VEVENT
END:VCALENDAR
