BEGIN:VCALENDAR
PRODID:-//kirchenweb.ch gmbh//veranstaltungsausgabe v2.0//DE
VERSION:2.0
METHOD:PUBLISH
BEGIN:VEVENT
DTSTART:20260919T160000Z
DTEND:20260919T170000Z
LOCATION:Evangelische Kirche Amriswil\, Friedhofweg\, 8580 Amriswil
TRANSP:OPAQUE
SEQUENCE:0
UID:35056-veranstaltung@evang-amriswil.ch
DTSTAMP:20260408T101616Z
DESCRIPTION:Kulturangebot für Kinder und Familie\n\nKontakt: Pfr. Lukas
  Butscher\nDagmar Grigarová\n\nWeitere Infos:
  https://www.evang-amriswil.ch/veranstaltung/35056
SUMMARY:Kulturnacht
PRIORITY:5
X-MICROSOFT-CDO-IMPORTANCE:1
CLASS:PUBLIC
END:VEVENT
END:VCALENDAR
