BEGIN:VCALENDAR
PRODID:-//kirchenweb.ch gmbh//veranstaltungsausgabe v2.0//DE
VERSION:2.0
METHOD:PUBLISH
BEGIN:VEVENT
DTSTART:20270101T090000Z
DTEND:20270101T100000Z
LOCATION:Evangelische Kirche Amriswil\, Friedhofweg\, 8580 Amriswil
TRANSP:OPAQUE
SEQUENCE:0
UID:35058-veranstaltung@evang-amriswil.ch
DTSTAMP:20260409T080024Z
DESCRIPTION:Predigt zur Jahreslosung 2027 \n\nFür kleine Kinder steht bei
  allen Gottesdiensten ein Kinderhüeti-Raum direkt in der Kirche zur
  Verfügung. Bei Familiengottesdiensten und Taufen ist dieser betreut.\n
 \nEinfacher Neujahrsapéro im Anschluss.\n\nKontakt: Pfr. Michael Ziegler
 \n\nWeitere Infos: https://www.evang-amriswil.ch/veranstaltung/35058
SUMMARY:Gottesdienst in Amriswil am Neujahrstag
PRIORITY:5
X-MICROSOFT-CDO-IMPORTANCE:1
CLASS:PUBLIC
END:VEVENT
END:VCALENDAR
