BEGIN:VCALENDAR
PRODID:-//kirchenweb.ch gmbh//veranstaltungsausgabe v2.0//DE
VERSION:2.0
METHOD:PUBLISH
BEGIN:VEVENT
DTSTART:20270401T120000Z
DTEND:20270401T150000Z
LOCATION:Altes Pfarrhaus\, Bahnhofstrasse 3\, 8580 Amriswil
TRANSP:OPAQUE
SEQUENCE:0
UID:35068-veranstaltung@evang-amriswil.ch
DTSTAMP:20260408T134241Z
DESCRIPTION:Kontakt: Willy Ramazani\, Jugendarbeiter\n\nWeitere Infos:
  https://www.evang-amriswil.ch/veranstaltung/35068
SUMMARY:Kinderwoche
PRIORITY:5
X-MICROSOFT-CDO-IMPORTANCE:1
CLASS:PUBLIC
END:VEVENT
END:VCALENDAR
