BEGIN:VCALENDAR
PRODID:-//kirchenweb.ch gmbh//veranstaltungsausgabe v2.0//DE
VERSION:2.0
METHOD:PUBLISH
BEGIN:VEVENT
DTSTART:20270506T080000Z
DTEND:20270506T090000Z
LOCATION:Evangelische Kirche Amriswil\, Friedhofweg\, 8580 Amriswil
TRANSP:OPAQUE
SEQUENCE:0
UID:35076-veranstaltung@evang-amriswil.ch
DTSTAMP:20260409T083753Z
DESCRIPTION:Für kleine Kinder steht bei allen Gottesdiensten eine
  https://www.evang-amriswil.ch/kinderhuetidirekt in der Kirche zur
  Verfügung. \n\nDie Sonntagschule Oberaach findet im Schulhaus Oberaach
  statt. \n\nNach jedem Gottesdienst gibt es einen Kirchenkaffee in der
  Kirche\, herzliche Einladung!\n\n\n\nKontakt: Pfr. Markus Keller\n
 \nWeitere Infos: https://www.evang-amriswil.ch/veranstaltung/35076
SUMMARY:Konfirmation in Amriswil an Auffahrt\, Klasse Pfr. Keller
PRIORITY:5
X-MICROSOFT-CDO-IMPORTANCE:1
CLASS:PUBLIC
END:VEVENT
END:VCALENDAR
