BEGIN:VCALENDAR
PRODID:-//kirchenweb.ch gmbh//veranstaltungsausgabe v2.0//DE
VERSION:2.0
METHOD:PUBLISH
BEGIN:VEVENT
DTSTART:20260813T170000Z
DTEND:20260813T190000Z
LOCATION:Ehemaliges Evang. Kirchgemeindehaus\, Romanshornerstr. 6\, 8580
  Amriswil
TRANSP:OPAQUE
SEQUENCE:0
UID:35078-veranstaltung@evang-amriswil.ch
DTSTAMP:20260408T144154Z
DESCRIPTION:Kontakt: Willy Ramazani\, Jugendarbeiter\n\nWeitere Infos:
  https://www.evang-amriswil.ch/veranstaltung/35078
SUMMARY:Einführung Jugendgottesdienst
PRIORITY:5
X-MICROSOFT-CDO-IMPORTANCE:1
CLASS:PUBLIC
END:VEVENT
END:VCALENDAR
